BEGIN:VCALENDAR
VERSION:2.0
PRODID:-//Devonport - ECPv6.15.20//NONSGML v1.0//EN
CALSCALE:GREGORIAN
METHOD:PUBLISH
X-ORIGINAL-URL:https://devonport.ucavictas.org.au
X-WR-CALDESC:Events for Devonport
REFRESH-INTERVAL;VALUE=DURATION:PT1H
X-Robots-Tag:noindex
X-PUBLISHED-TTL:PT1H
BEGIN:VTIMEZONE
TZID:Australia/Melbourne
BEGIN:STANDARD
TZOFFSETFROM:+1100
TZOFFSETTO:+1000
TZNAME:AEST
DTSTART:20240406T160000
END:STANDARD
BEGIN:DAYLIGHT
TZOFFSETFROM:+1000
TZOFFSETTO:+1100
TZNAME:AEDT
DTSTART:20241005T160000
END:DAYLIGHT
BEGIN:STANDARD
TZOFFSETFROM:+1100
TZOFFSETTO:+1000
TZNAME:AEST
DTSTART:20250405T160000
END:STANDARD
BEGIN:DAYLIGHT
TZOFFSETFROM:+1000
TZOFFSETTO:+1100
TZNAME:AEDT
DTSTART:20251004T160000
END:DAYLIGHT
BEGIN:STANDARD
TZOFFSETFROM:+1100
TZOFFSETTO:+1000
TZNAME:AEST
DTSTART:20260404T160000
END:STANDARD
BEGIN:DAYLIGHT
TZOFFSETFROM:+1000
TZOFFSETTO:+1100
TZNAME:AEDT
DTSTART:20261003T160000
END:DAYLIGHT
END:VTIMEZONE
BEGIN:VEVENT
DTSTART;TZID=Australia/Melbourne:20251123T143000
DTEND;TZID=Australia/Melbourne:20251123T163000
DTSTAMP:20260423T233500
CREATED:20251103T042441Z
LAST-MODIFIED:20251118T220629Z
UID:367-1763908200-1763915400@devonport.ucavictas.org.au
SUMMARY:Induction Service
DESCRIPTION:Rev Dr Liena Hoffman’s Induction Service – 2.30 pm on Sunday 23rd November at Cam Rise Uniting Church\, Wragg Street\, Somerset.
URL:https://devonport.ucavictas.org.au/event/induction-service/
END:VEVENT
END:VCALENDAR