BEGIN:VCALENDAR
VERSION:2.0
PRODID:-//Devonport - ECPv6.15.20//NONSGML v1.0//EN
CALSCALE:GREGORIAN
METHOD:PUBLISH
X-WR-CALNAME:Devonport
X-ORIGINAL-URL:https://devonport.ucavictas.org.au
X-WR-CALDESC:Events for Devonport
REFRESH-INTERVAL;VALUE=DURATION:PT1H
X-Robots-Tag:noindex
X-PUBLISHED-TTL:PT1H
BEGIN:VTIMEZONE
TZID:Australia/Melbourne
BEGIN:STANDARD
TZOFFSETFROM:+1100
TZOFFSETTO:+1000
TZNAME:AEST
DTSTART:20240406T160000
END:STANDARD
BEGIN:DAYLIGHT
TZOFFSETFROM:+1000
TZOFFSETTO:+1100
TZNAME:AEDT
DTSTART:20241005T160000
END:DAYLIGHT
BEGIN:STANDARD
TZOFFSETFROM:+1100
TZOFFSETTO:+1000
TZNAME:AEST
DTSTART:20250405T160000
END:STANDARD
BEGIN:DAYLIGHT
TZOFFSETFROM:+1000
TZOFFSETTO:+1100
TZNAME:AEDT
DTSTART:20251004T160000
END:DAYLIGHT
BEGIN:STANDARD
TZOFFSETFROM:+1100
TZOFFSETTO:+1000
TZNAME:AEST
DTSTART:20260404T160000
END:STANDARD
BEGIN:DAYLIGHT
TZOFFSETFROM:+1000
TZOFFSETTO:+1100
TZNAME:AEDT
DTSTART:20261003T160000
END:DAYLIGHT
END:VTIMEZONE
BEGIN:VEVENT
DTSTART;TZID=Australia/Melbourne:20250808T103000
DTEND;TZID=Australia/Melbourne:20250808T123000
DTSTAMP:20260424T030936
CREATED:20250804T223709Z
LAST-MODIFIED:20250804T223709Z
UID:353-1754649000-1754656200@devonport.ucavictas.org.au
SUMMARY:Friday Cafe
DESCRIPTION:Table games\, great food and conversation topics will be available to use. All welcome.
URL:https://devonport.ucavictas.org.au/event/friday-cafe-3/
END:VEVENT
BEGIN:VEVENT
DTSTART;TZID=Australia/Melbourne:20250809T093000
DTEND;TZID=Australia/Melbourne:20250809T130000
DTSTAMP:20260424T030936
CREATED:20250706T101125Z
LAST-MODIFIED:20250706T103410Z
UID:348-1754731800-1754744400@devonport.ucavictas.org.au
SUMMARY:Sharing the Journey
DESCRIPTION:You are invited to attend one of the two regional gatherings on Saturday 9th August in Devonport or Kingston. \nThe session will commence at 10.00 am and should conclude around 1.00 pm. \nArrive early for a cuppa and chat at 9.30 am. \nDevonport Uniting Church address:- 12 Forbes Street\, Devonport.
URL:https://devonport.ucavictas.org.au/event/sharing-the-journey/
END:VEVENT
BEGIN:VEVENT
DTSTART;TZID=Australia/Melbourne:20250831T140000
DTEND;TZID=Australia/Melbourne:20250831T163000
DTSTAMP:20260424T030936
CREATED:20250630T014646Z
LAST-MODIFIED:20250630T014742Z
UID:346-1756648800-1756657800@devonport.ucavictas.org.au
SUMMARY:Cradle Coast Cluster Service
DESCRIPTION:Sunday 31st August at 2.00 pm.\nAt Devonport Uniting Church\, 12 Forbes Street\, Devonport
URL:https://devonport.ucavictas.org.au/event/cradle-coast-cluster-service/
END:VEVENT
END:VCALENDAR