BEGIN:VCALENDAR
VERSION:2.0
PRODID:-//Devonport - ECPv6.15.20//NONSGML v1.0//EN
CALSCALE:GREGORIAN
METHOD:PUBLISH
X-WR-CALNAME:Devonport
X-ORIGINAL-URL:https://devonport.ucavictas.org.au
X-WR-CALDESC:Events for Devonport
REFRESH-INTERVAL;VALUE=DURATION:PT1H
X-Robots-Tag:noindex
X-PUBLISHED-TTL:PT1H
BEGIN:VTIMEZONE
TZID:Australia/Melbourne
BEGIN:STANDARD
TZOFFSETFROM:+1100
TZOFFSETTO:+1000
TZNAME:AEST
DTSTART:20240406T160000
END:STANDARD
BEGIN:DAYLIGHT
TZOFFSETFROM:+1000
TZOFFSETTO:+1100
TZNAME:AEDT
DTSTART:20241005T160000
END:DAYLIGHT
BEGIN:STANDARD
TZOFFSETFROM:+1100
TZOFFSETTO:+1000
TZNAME:AEST
DTSTART:20250405T160000
END:STANDARD
BEGIN:DAYLIGHT
TZOFFSETFROM:+1000
TZOFFSETTO:+1100
TZNAME:AEDT
DTSTART:20251004T160000
END:DAYLIGHT
BEGIN:STANDARD
TZOFFSETFROM:+1100
TZOFFSETTO:+1000
TZNAME:AEST
DTSTART:20260404T160000
END:STANDARD
BEGIN:DAYLIGHT
TZOFFSETFROM:+1000
TZOFFSETTO:+1100
TZNAME:AEDT
DTSTART:20261003T160000
END:DAYLIGHT
END:VTIMEZONE
BEGIN:VEVENT
DTSTART;TZID=Australia/Melbourne:20251114T103000
DTEND;TZID=Australia/Melbourne:20251114T123000
DTSTAMP:20260423T220352
CREATED:20251103T041807Z
LAST-MODIFIED:20251103T041807Z
UID:365-1763116200-1763123400@devonport.ucavictas.org.au
SUMMARY:Friday Cafe
DESCRIPTION:Great food and conversation. All welcome.
URL:https://devonport.ucavictas.org.au/event/friday-cafe-6/
END:VEVENT
BEGIN:VEVENT
DTSTART;TZID=Australia/Melbourne:20251121T173000
DTEND;TZID=Australia/Melbourne:20251121T193000
DTSTAMP:20260423T220352
CREATED:20251117T005248Z
LAST-MODIFIED:20251117T005248Z
UID:372-1763746200-1763753400@devonport.ucavictas.org.au
SUMMARY:Fish'n Chips Night
DESCRIPTION:Bring your tea – does not matter if it is something other than fish’n chips. Everyone welcome.
URL:https://devonport.ucavictas.org.au/event/fishn-chips-night/
END:VEVENT
BEGIN:VEVENT
DTSTART;TZID=Australia/Melbourne:20251123T143000
DTEND;TZID=Australia/Melbourne:20251123T163000
DTSTAMP:20260423T220352
CREATED:20251103T042441Z
LAST-MODIFIED:20251118T220629Z
UID:367-1763908200-1763915400@devonport.ucavictas.org.au
SUMMARY:Induction Service
DESCRIPTION:Rev Dr Liena Hoffman’s Induction Service – 2.30 pm on Sunday 23rd November at Cam Rise Uniting Church\, Wragg Street\, Somerset.
URL:https://devonport.ucavictas.org.au/event/induction-service/
END:VEVENT
BEGIN:VEVENT
DTSTART;TZID=Australia/Melbourne:20251130T103000
DTEND;TZID=Australia/Melbourne:20251130T130000
DTSTAMP:20260423T220352
CREATED:20251118T012124Z
LAST-MODIFIED:20251118T012124Z
UID:377-1764498600-1764507600@devonport.ucavictas.org.au
SUMMARY:Cluster Service
DESCRIPTION:Cluster Service at Penguin Uniting Church. \nWorship Leader – Rev Liena Hoffman. \nPlease bring some lunch to share afterwards.
URL:https://devonport.ucavictas.org.au/event/cluster-service-2/
END:VEVENT
END:VCALENDAR